View In:
ArcGIS JavaScript
ArcGIS Online Map Viewer
ArcGIS Earth
ArcGIS Pro
Service Description:
Map Name: Ausschluss durch ooo
Legend
All Layers and Tables
Layers:
Description:
Service Item Id: d8c22a5571614e658d314cf59f28f00e
Copyright Text:
Spatial Reference:
25832
(25832)
LatestVCSWkid(0)
Single Fused Map Cache: true
Tile Info:
- Height: 256
- Width: 256
- DPI: 91
-
Levels of Detail: 15
-
Level ID: 0
[ Start Tile, End Tile ]
- Resolution: 4891.969810251894
- Scale: 1.7471320750897426E7
-
Level ID: 1
[ Start Tile, End Tile ]
- Resolution: 2445.984905125947
- Scale: 8735660.375448713
-
Level ID: 2
[ Start Tile, End Tile ]
- Resolution: 1222.9924525629735
- Scale: 4367830.187724357
-
Level ID: 3
[ Start Tile, End Tile ]
- Resolution: 611.4962262814868
- Scale: 2183915.0938621783
-
Level ID: 4
[ Start Tile, End Tile ]
- Resolution: 305.7481131407432
- Scale: 1091957.5469310884
-
Level ID: 5
[ Start Tile, End Tile ]
- Resolution: 152.8740565703717
- Scale: 545978.7734655446
-
Level ID: 6
[ Start Tile, End Tile ]
- Resolution: 76.43702828518585
- Scale: 272989.3867327723
-
Level ID: 7
[ Start Tile, End Tile ]
- Resolution: 38.21851414259292
- Scale: 136494.69336638614
-
Level ID: 8
[ Start Tile, End Tile ]
- Resolution: 19.10925707129646
- Scale: 68247.34668319307
-
Level ID: 9
[ Start Tile, End Tile ]
- Resolution: 9.55462853564823
- Scale: 34123.673341596535
-
Level ID: 10
[ Start Tile, End Tile ]
- Resolution: 4.777314267824115
- Scale: 17061.836670798268
-
Level ID: 11
[ Start Tile, End Tile ]
- Resolution: 2.3886571339120577
- Scale: 8530.918335399134
-
Level ID: 12
[ Start Tile, End Tile ]
- Resolution: 1.1943285669560288
- Scale: 4265.459167699567
-
Level ID: 13
[ Start Tile, End Tile ]
- Resolution: 0.5971642834780144
- Scale: 2132.7295838497835
-
Level ID: 14
[ Start Tile, End Tile ]
- Resolution: 0.29858214173900754
- Scale: 1066.3647919248929
- Format: PNG
- Compression Quality: 0.0
- Origin: X: -46133.17
Y: 6301219.54
- Spatial Reference: 25832
(25832)
LatestVCSWkid(0)
Storage Info:
- Storage Format: esriMapCacheStorageModeCompactV2
- Packet Size: 128
Initial Extent:
XMin: 235914.98255043512
YMin: 5565357.008600673
XMax: 576251.1854495654
YMax: 5832533.819399327
Spatial Reference: 25832
(25832)
LatestVCSWkid(0)
Full Extent:
XMin: 280374.96800000034
YMin: 5577679.220000001
XMax: 531791.2000000002
YMax: 5820211.607999999
Spatial Reference: 25832
(25832)
LatestVCSWkid(0)
Units: esriMeters
Supported Image Format Types: PNG32,PNG24,PNG,JPG,DIB,TIFF,EMF,PS,PDF,GIF,SVG,SVGZ,BMP
Document Info:
Title: Map5
Author:
Comments:
Subject:
Category:
Keywords:
AntialiasingMode: Fast
TextAntialiasingMode: Force
Supports Dynamic Layers: false
MaxRecordCount: 1000
MaxImageHeight: 4096
MaxImageWidth: 4096
Supported Query Formats: JSON, geoJSON, PBF
Supports Query Data Elements: true
Min Scale: 2183915.0938621783
Max Scale: 68247.34668319307
Min LOD: 3
Max LOD: 8
Supports Datum Transformation: true
Child Resources:
Info
Supported Operations:
QueryLegends
Return Updates