{
 "currentVersion": 11.3,
 "cimVersion": "3.3.0",
 "serviceDescription": "",
 "mapName": "beteil_2025",
 "description": "",
 "copyrightText": "",
 "supportsDynamicLayers": false,
 "layers": [
  {
   "id": 0,
   "name": "Beteil_2025",
   "parentLayerId": -1,
   "defaultVisibility": true,
   "subLayerIds": null,
   "minScale": 0,
   "maxScale": 0,
   "type": "Feature Layer",
   "geometryType": "esriGeometryPolygon",
   "supportsDynamicLegends": true
  }
 ],
 "tables": [],
 "spatialReference": {
  "wkid": 3035,
  "latestWkid": 3035,
  "xyTolerance": 0.001,
  "zTolerance": 0.001,
  "mTolerance": 0.001,
  "falseX": -8426600,
  "falseY": -9526700,
  "xyUnits": 10000,
  "falseZ": -100000,
  "zUnits": 10000,
  "falseM": -100000,
  "mUnits": 10000
 },
 "singleFusedMapCache": true,
 "tileInfo": {
  "rows": 256,
  "cols": 256,
  "dpi": 96,
  "format": "MIXED",
  "compressionQuality": 75,
  "origin": {
   "x": 4031316.9829,
   "y": 3269986.7239
  },
  "spatialReference": {
   "wkid": 3035,
   "latestWkid": 3035,
   "xyTolerance": 0.001,
   "zTolerance": 0.001,
   "mTolerance": 0.001,
   "falseX": -8426600,
   "falseY": -9526700,
   "xyUnits": 10000,
   "falseZ": -100000,
   "zUnits": 10000,
   "falseM": -100000,
   "mUnits": 10000
  },
  "lods": [
   {
    "level": 0,
    "resolution": 4622.629527268014,
    "scale": 1.74713207509E7
   },
   {
    "level": 1,
    "resolution": 2311.314763634007,
    "scale": 8735660.37545
   },
   {
    "level": 2,
    "resolution": 1155.6573818156803,
    "scale": 4367830.18772
   },
   {
    "level": 3,
    "resolution": 577.8286909078402,
    "scale": 2183915.09386
   },
   {
    "level": 4,
    "resolution": 288.9143454539201,
    "scale": 1091957.54693
   },
   {
    "level": 5,
    "resolution": 144.45717272722462,
    "scale": 545978.773466
   },
   {
    "level": 6,
    "resolution": 72.22858636361231,
    "scale": 272989.386733
   },
   {
    "level": 7,
    "resolution": 36.114293181673865,
    "scale": 136494.693366
   },
   {
    "level": 8,
    "resolution": 18.05714659088985,
    "scale": 68247.3466832
   },
   {
    "level": 9,
    "resolution": 9.028573295444925,
    "scale": 34123.6733416
   },
   {
    "level": 10,
    "resolution": 4.514286647722463,
    "scale": 17061.8366708
   }
  ]
 },
 "storageInfo": {
  "storageFormat": "esriMapCacheStorageModeCompactV2",
  "packetSize": 128
 },
 "initialExtent": {
  "xmin": 3940539.0727989506,
  "ymin": 3002906.0578362653,
  "xmax": 4380724.067730901,
  "ymax": 3289693.2515040506,
  "spatialReference": {
   "wkid": 3035,
   "latestWkid": 3035,
   "xyTolerance": 0.001,
   "zTolerance": 0.001,
   "mTolerance": 0.001,
   "falseX": -8426600,
   "falseY": -9526700,
   "xyUnits": 10000,
   "falseZ": -100000,
   "zUnits": 10000,
   "falseM": -100000,
   "mUnits": 10000
  }
 },
 "fullExtent": {
  "xmin": 4031316.9828999992,
  "ymin": 3029604.9978,
  "xmax": 4283908.532500001,
  "ymax": 3269986.7238999996,
  "spatialReference": {
   "wkid": 3035,
   "latestWkid": 3035,
   "xyTolerance": 0.001,
   "zTolerance": 0.001,
   "mTolerance": 0.001,
   "falseX": -8426600,
   "falseY": -9526700,
   "xyUnits": 10000,
   "falseZ": -100000,
   "zUnits": 10000,
   "falseM": -100000,
   "mUnits": 10000
  }
 },
 "datesInUnknownTimezone": false,
 "units": "esriMeters",
 "supportedImageFormatTypes": "PNG32,PNG24,PNG,JPG,DIB,TIFF,EMF,PS,PDF,GIF,SVG,SVGZ,BMP",
 "documentInfo": {
  "Title": "Karte9",
  "Author": "",
  "Comments": "",
  "Subject": "",
  "Category": "",
  "Version": "3.3.0",
  "AntialiasingMode": "Fast",
  "TextAntialiasingMode": "Force",
  "Keywords": ""
 },
 "supportsQueryDomains": true,
 "supportedQueryFormats": "JSON, geoJSON, PBF",
 "referenceScale": 0.0,
 "supportsDatumTransformation": true,
 "archivingInfo": {
  "supportsHistoricMoment": false
 },
 "supportsClipping": true,
 "supportsSpatialFilter": true,
 "supportsTimeRelation": true,
 "supportsQueryDataElements": true,
 "mapUnits": {
  "uwkid": 9001
 },
 "maxRecordCount": 1000,
 "maxImageHeight": 4096,
 "maxImageWidth": 4096,
 "minScale": 1.74713207509E7,
 "maxScale": 17061.8366708,
 "exportTilesAllowed": false,
 "maxExportTilesCount": 100000,
 "capabilities": "TilesOnly,Tilemap",
 "minLOD": 0,
 "maxLOD": 10,
 "supportedExtensions": "",
 "serviceItemId": "293540df339648b0890a863d185517ae"
}
