{
 "currentVersion": 10.8,
 "cimVersion": "2.5.0",
 "serviceDescription": "",
 "mapName": "Karte",
 "description": "",
 "copyrightText": "",
 "supportsDynamicLayers": false,
 "layers": [
  {
   "id": 0,
   "name": "Wahlbeteiligung_2017",
   "parentLayerId": -1,
   "defaultVisibility": false,
   "subLayerIds": null,
   "minScale": 0,
   "maxScale": 0,
   "type": "Feature Layer",
   "geometryType": "esriGeometryPolygon",
   "supportsDynamicLegends": true
  },
  {
   "id": 1,
   "name": "Wahlbeteiligung_2012",
   "parentLayerId": -1,
   "defaultVisibility": true,
   "subLayerIds": null,
   "minScale": 0,
   "maxScale": 0,
   "type": "Feature Layer",
   "geometryType": "esriGeometryPolygon",
   "supportsDynamicLegends": true
  },
  {
   "id": 2,
   "name": "Wahlbeteiligung_2010",
   "parentLayerId": -1,
   "defaultVisibility": false,
   "subLayerIds": null,
   "minScale": 0,
   "maxScale": 0,
   "type": "Feature Layer",
   "geometryType": "esriGeometryPolygon",
   "supportsDynamicLegends": true
  }
 ],
 "tables": [],
 "spatialReference": {
  "wkid": 3035,
  "latestWkid": 3035,
  "xyTolerance": 0.001,
  "zTolerance": 0.001,
  "mTolerance": 0.001,
  "falseX": -8426600,
  "falseY": -9526700,
  "xyUnits": 10000,
  "falseZ": -100000,
  "zUnits": 10000,
  "falseM": -100000,
  "mUnits": 10000
 },
 "singleFusedMapCache": true,
 "tileInfo": {
  "rows": 256,
  "cols": 256,
  "dpi": 96,
  "format": "PNG",
  "compressionQuality": 0,
  "origin": {
   "x": 4031316.9829,
   "y": 3269986.7239
  },
  "spatialReference": {
   "wkid": 3035,
   "latestWkid": 3035,
   "xyTolerance": 0.001,
   "zTolerance": 0.001,
   "mTolerance": 0.001,
   "falseX": -8426600,
   "falseY": -9526700,
   "xyUnits": 10000,
   "falseZ": -100000,
   "zUnits": 10000,
   "falseM": -100000,
   "mUnits": 10000
  },
  "lods": [
   {
    "level": 0,
    "resolution": 4622.629527268014,
    "scale": 1.74713207509E7
   },
   {
    "level": 1,
    "resolution": 2311.314763634007,
    "scale": 8735660.37545
   },
   {
    "level": 2,
    "resolution": 1155.6573818156803,
    "scale": 4367830.18772
   },
   {
    "level": 3,
    "resolution": 577.8286909078402,
    "scale": 2183915.09386
   },
   {
    "level": 4,
    "resolution": 288.9143454539201,
    "scale": 1091957.54693
   },
   {
    "level": 5,
    "resolution": 144.45717272722462,
    "scale": 545978.773466
   },
   {
    "level": 6,
    "resolution": 72.22858636361231,
    "scale": 272989.386733
   },
   {
    "level": 7,
    "resolution": 36.114293181673865,
    "scale": 136494.693366
   },
   {
    "level": 8,
    "resolution": 18.05714659088985,
    "scale": 68247.3466832
   },
   {
    "level": 9,
    "resolution": 9.028573295444925,
    "scale": 34123.6733416
   },
   {
    "level": 10,
    "resolution": 4.514286647722463,
    "scale": 17061.8366708
   }
  ]
 },
 "initialExtent": {
  "xmin": 3955468.726171765,
  "ymin": 2984150.7700476763,
  "xmax": 4359756.789228235,
  "ymax": 3315438.5074523236,
  "spatialReference": {
   "wkid": 3035,
   "latestWkid": 3035,
   "xyTolerance": 0.001,
   "zTolerance": 0.001,
   "mTolerance": 0.001,
   "falseX": -8426600,
   "falseY": -9526700,
   "xyUnits": 10000,
   "falseZ": -100000,
   "zUnits": 10000,
   "falseM": -100000,
   "mUnits": 10000
  }
 },
 "fullExtent": {
  "xmin": 4031316.9828999992,
  "ymin": 3029604.9978,
  "xmax": 4283908.532500001,
  "ymax": 3269984.2797,
  "spatialReference": {
   "wkid": 3035,
   "latestWkid": 3035,
   "xyTolerance": 0.001,
   "zTolerance": 0.001,
   "mTolerance": 0.001,
   "falseX": -8426600,
   "falseY": -9526700,
   "xyUnits": 10000,
   "falseZ": -100000,
   "zUnits": 10000,
   "falseM": -100000,
   "mUnits": 10000
  }
 },
 "units": "esriMeters",
 "supportedImageFormatTypes": "PNG32,PNG24,PNG,JPG,DIB,TIFF,EMF,PS,PDF,GIF,SVG,SVGZ,BMP",
 "documentInfo": {
  "Title": "Karte",
  "Author": "",
  "Comments": "",
  "Subject": "",
  "Category": "",
  "AntialiasingMode": "Fast",
  "TextAntialiasingMode": "Force",
  "Keywords": ""
 },
 "supportedQueryFormats": "JSON, geoJSON, PBF",
 "referenceScale": 0.0,
 "supportsDatumTransformation": true,
 "archivingInfo": {
  "supportsHistoricMoment": false
 },
 "supportsClipping": true,
 "supportsSpatialFilter": true,
 "supportsQueryDataElements": true,
 "maxRecordCount": 1000,
 "maxImageHeight": 4096,
 "maxImageWidth": 4096,
 "minScale": 1.74713207509E7,
 "maxScale": 17061.8366708,
 "exportTilesAllowed": false,
 "maxExportTilesCount": 100000,
 "capabilities": "TilesOnly,Tilemap",
 "minLOD": 0,
 "maxLOD": 10,
 "supportedExtensions": "",
 "serviceItemId": "2d4e667625504d3482c1d2bd45899ea5"
}
