{
 "currentVersion": 10.8,
 "cimVersion": "2.5.0",
 "serviceDescription": "",
 "mapName": "Karte",
 "description": "",
 "copyrightText": "",
 "supportsDynamicLayers": false,
 "layers": [
  {
   "id": 0,
   "name": "HW2021_Zwischenergebnisse.tif",
   "parentLayerId": -1,
   "defaultVisibility": true,
   "subLayerIds": null,
   "minScale": 0,
   "maxScale": 0,
   "type": "Raster Layer",
   "supportsDynamicLegends": true
  }
 ],
 "tables": [],
 "spatialReference": {
  "wkid": 25832,
  "latestWkid": 25832,
  "xyTolerance": 0.001,
  "zTolerance": 0.001,
  "mTolerance": 0.001,
  "falseX": -5120900,
  "falseY": -9998100,
  "xyUnits": 10000,
  "falseZ": -100000,
  "zUnits": 10000,
  "falseM": -100000,
  "mUnits": 10000
 },
 "singleFusedMapCache": true,
 "tileInfo": {
  "rows": 256,
  "cols": 256,
  "dpi": 91,
  "format": "Mixed",
  "compressionQuality": 75,
  "origin": {
   "x": -46133.17,
   "y": 6301219.54
  },
  "spatialReference": {
   "wkid": 25832,
   "latestWkid": 25832,
   "xyTolerance": 0.001,
   "zTolerance": 0.001,
   "mTolerance": 0.001,
   "falseX": -5120900,
   "falseY": -9998100,
   "xyUnits": 4.504455473910538E8,
   "falseZ": -100000,
   "zUnits": 10000,
   "falseM": -100000,
   "mUnits": 10000
  },
  "lods": [
   {
    "level": 0,
    "resolution": 4891.969810251894,
    "scale": 1.7471320750897426E7
   },
   {
    "level": 1,
    "resolution": 2445.984905125947,
    "scale": 8735660.375448713
   },
   {
    "level": 2,
    "resolution": 1222.9924525629735,
    "scale": 4367830.187724357
   },
   {
    "level": 3,
    "resolution": 611.4962262814868,
    "scale": 2183915.0938621783
   },
   {
    "level": 4,
    "resolution": 305.7481131407434,
    "scale": 1091957.5469310891
   },
   {
    "level": 5,
    "resolution": 152.8740565703722,
    "scale": 545978.7734655463
   },
   {
    "level": 6,
    "resolution": 76.4370282851859,
    "scale": 272989.38673277246
   },
   {
    "level": 7,
    "resolution": 38.2185141425929,
    "scale": 136494.69336638605
   },
   {
    "level": 8,
    "resolution": 19.1092570712965,
    "scale": 68247.3466831932
   },
   {
    "level": 9,
    "resolution": 9.55462853564823,
    "scale": 34123.673341596535
   },
   {
    "level": 10,
    "resolution": 4.777314267824121,
    "scale": 17061.836670798286
   },
   {
    "level": 11,
    "resolution": 2.3886571339120604,
    "scale": 8530.918335399143
   },
   {
    "level": 12,
    "resolution": 1.1943285669560302,
    "scale": 4265.4591676995715
   },
   {
    "level": 13,
    "resolution": 0.5971642834780141,
    "scale": 2132.729583849782
   }
  ]
 },
 "initialExtent": {
  "xmin": 345566.7231872589,
  "ymin": 5606172.944083433,
  "xmax": 367517.52786323597,
  "ymax": 5616216.472638006,
  "spatialReference": {
   "wkid": 25832,
   "latestWkid": 25832,
   "xyTolerance": 0.001,
   "zTolerance": 0.001,
   "mTolerance": 0.001,
   "falseX": -5120900,
   "falseY": -9998100,
   "xyUnits": 10000,
   "falseZ": -100000,
   "zUnits": 10000,
   "falseM": -100000,
   "mUnits": 10000
  }
 },
 "fullExtent": {
  "xmin": 352136,
  "ymin": 5605706,
  "xmax": 362276,
  "ymax": 5616400,
  "spatialReference": {
   "wkid": 25832,
   "latestWkid": 25832,
   "xyTolerance": 0.001,
   "zTolerance": 0.001,
   "mTolerance": 0.001,
   "falseX": -5120900,
   "falseY": -9998100,
   "xyUnits": 10000,
   "falseZ": -100000,
   "zUnits": 10000,
   "falseM": -100000,
   "mUnits": 10000
  }
 },
 "units": "esriMeters",
 "supportedImageFormatTypes": "PNG32,PNG24,PNG,JPG,DIB,TIFF,EMF,PS,PDF,GIF,SVG,SVGZ,BMP",
 "documentInfo": {
  "Title": "Karte",
  "Author": "",
  "Comments": "",
  "Subject": "",
  "Category": "",
  "AntialiasingMode": "Fast",
  "TextAntialiasingMode": "Force",
  "Keywords": ""
 },
 "supportedQueryFormats": "JSON, geoJSON, PBF",
 "referenceScale": 0.0,
 "datumTransformations": [
  {
   "geoTransforms": [
    {
     "wkid": 1149,
     "latestWkid": 1149,
     "transformForward": false,
     "name": "ETRS_1989_To_WGS_1984"
    }
   ]
  },
  {
   "geoTransforms": [
    {
     "wkid": 1149,
     "latestWkid": 1149,
     "transformForward": true,
     "name": "ETRS_1989_To_WGS_1984"
    }
   ]
  }
 ],
 "supportsDatumTransformation": true,
 "archivingInfo": {
  "supportsHistoricMoment": false
 },
 "supportsClipping": true,
 "supportsSpatialFilter": true,
 "supportsQueryDataElements": true,
 "maxRecordCount": 1000,
 "maxImageHeight": 4096,
 "maxImageWidth": 4096,
 "capabilities": "TilesOnly,Tilemap",
 "minScale": 136494.69336638605,
 "maxScale": 4265.4591676995715,
 "exportTilesAllowed": false,
 "maxExportTilesCount": 100000,
 "minLOD": 7,
 "maxLOD": 12,
 "supportedExtensions": "",
 "serviceItemId": "3cd757752a5449428721eb463808226b"
}
