{
 "currentVersion": 10.91,
 "cimVersion": "2.9.0",
 "serviceDescription": "",
 "mapName": "Gymnasium_24_Rad",
 "description": "",
 "copyrightText": "",
 "supportsDynamicLayers": false,
 "layers": [
  {
   "id": 0,
   "name": "--------------------",
   "parentLayerId": -1,
   "defaultVisibility": true,
   "subLayerIds": null,
   "minScale": 0,
   "maxScale": 0,
   "type": "Feature Layer",
   "geometryType": "esriGeometryPolygon",
   "supportsDynamicLegends": true
  }
 ],
 "tables": [],
 "spatialReference": {
  "wkid": 25832,
  "latestWkid": 25832,
  "xyTolerance": 0.001,
  "zTolerance": 0.001,
  "mTolerance": 0.001,
  "falseX": -5120900,
  "falseY": -9998100,
  "xyUnits": 10000,
  "falseZ": -100000,
  "zUnits": 10000,
  "falseM": -100000,
  "mUnits": 10000
 },
 "singleFusedMapCache": true,
 "tileInfo": {
  "rows": 256,
  "cols": 256,
  "dpi": 96,
  "format": "Mixed",
  "compressionQuality": 80,
  "origin": {
   "x": -46133.17,
   "y": 6301219.54
  },
  "spatialReference": {
   "wkid": 25832,
   "latestWkid": 25832,
   "xyTolerance": 0.001,
   "zTolerance": 0.001,
   "mTolerance": 0.001,
   "falseX": -5682840.1444100505,
   "falseY": -1.0972540311157675E7,
   "xyUnits": 4.2009901059884006E8,
   "falseZ": -100000,
   "zUnits": 10000,
   "falseM": -100000,
   "mUnits": 10000
  },
  "lods": [
   {
    "level": 0,
    "resolution": 4891.979594210455,
    "scale": 1.84892977372409E7
   },
   {
    "level": 1,
    "resolution": 2445.98490512564,
    "scale": 9244648.86862046
   },
   {
    "level": 2,
    "resolution": 1222.99245256282,
    "scale": 4622324.43431022
   },
   {
    "level": 3,
    "resolution": 611.49622628141,
    "scale": 2311162.21715511
   },
   {
    "level": 4,
    "resolution": 305.7481131407048,
    "scale": 1155581.10857755
   },
   {
    "level": 5,
    "resolution": 152.8740565703525,
    "scale": 577790.554288778
   },
   {
    "level": 6,
    "resolution": 76.43702828517624,
    "scale": 288895.277144389
   },
   {
    "level": 7,
    "resolution": 38.21851414258813,
    "scale": 144447.638572195
   },
   {
    "level": 8,
    "resolution": 19.10925707129406,
    "scale": 72223.8192860973
   },
   {
    "level": 9,
    "resolution": 9.554628535647032,
    "scale": 36111.9096430486
   },
   {
    "level": 10,
    "resolution": 4.777314267823516,
    "scale": 18055.9548215243
   },
   {
    "level": 11,
    "resolution": 2.388657133911758,
    "scale": 9027.97741076216
   },
   {
    "level": 12,
    "resolution": 1.194328566955879,
    "scale": 4513.98870538108
   },
   {
    "level": 13,
    "resolution": 0.5971642834779395,
    "scale": 2256.99435269054
   },
   {
    "level": 14,
    "resolution": 0.29858214173896974,
    "scale": 1128.49717634527
   },
   {
    "level": 15,
    "resolution": 0.14929107086948487,
    "scale": 564.248588172636
   }
  ]
 },
 "storageInfo": {
  "storageFormat": "esriMapCacheStorageModeCompactV2",
  "packetSize": 128
 },
 "initialExtent": {
  "xmin": 204934.1576782712,
  "ymin": 5564979.049481487,
  "xmax": 607298.3897148718,
  "ymax": 5833146.690676285,
  "spatialReference": {
   "wkid": 25832,
   "latestWkid": 25832,
   "xyTolerance": 0.001,
   "zTolerance": 0.001,
   "mTolerance": 0.001,
   "falseX": -5120900,
   "falseY": -9998100,
   "xyUnits": 10000,
   "falseZ": -100000,
   "zUnits": 10000,
   "falseM": -100000,
   "mUnits": 10000
  }
 },
 "fullExtent": {
  "xmin": 278217.1177299566,
  "ymin": 5577178.098745127,
  "xmax": 534030.1764333495,
  "ymax": 5820958.7484994605,
  "spatialReference": {
   "wkid": 25832,
   "latestWkid": 25832,
   "xyTolerance": 0.001,
   "zTolerance": 0.001,
   "mTolerance": 0.001,
   "falseX": -5120900,
   "falseY": -9998100,
   "xyUnits": 10000,
   "falseZ": -100000,
   "zUnits": 10000,
   "falseM": -100000,
   "mUnits": 10000
  }
 },
 "datesInUnknownTimezone": false,
 "units": "esriMeters",
 "supportedImageFormatTypes": "PNG32,PNG24,PNG,JPG,DIB,TIFF,EMF,PS,PDF,GIF,SVG,SVGZ,BMP",
 "documentInfo": {
  "Title": "Karte2",
  "Author": "",
  "Comments": "",
  "Subject": "",
  "Category": "",
  "AntialiasingMode": "Fast",
  "TextAntialiasingMode": "Force",
  "Version": "2.9.0",
  "Keywords": ""
 },
 "supportedQueryFormats": "JSON, geoJSON, PBF",
 "referenceScale": 0.0,
 "supportsDatumTransformation": true,
 "archivingInfo": {
  "supportsHistoricMoment": false
 },
 "supportsClipping": true,
 "supportsSpatialFilter": true,
 "supportsTimeRelation": true,
 "supportsQueryDataElements": true,
 "maxRecordCount": 1000,
 "maxImageHeight": 4096,
 "maxImageWidth": 4096,
 "capabilities": "TilesOnly,Tilemap",
 "minScale": 1.84892977372409E7,
 "maxScale": 18055.9548215243,
 "exportTilesAllowed": false,
 "maxExportTilesCount": 100000,
 "minLOD": 0,
 "maxLOD": 10,
 "supportedExtensions": "",
 "serviceItemId": "b45dc8a6da5f4ea795a950b75690bd55"
}
